BEGIN:VCALENDAR
METHOD:PUBLISH
VERSION:2.0
PRODID:-//Eventilla iCal Syndication//NONSGML Liana//EN
BEGIN:VEVENT
UID:n6wJL@eventilla.com
DTSTAMP:20181031T070000Z
DTSTART:20181031T070000Z
DTEND:20181031T133000Z
SUMMARY:Event for suppliers and producers
DESCRIPTION:Dear partner\,\nAlko is organizing a supplier event on 31 October 2018 and we are glad to invite you to participate. This time we also invite our foreign suppliers and producers. The programme consists of current topics and a chance to participate to an event especially for foreign suppliers\, where Alko’s operation and operating models are presented.\nProgramme\n0900 – 0930  Morning coffee\n0900 – 1200  Current topics\n1200 – 1300  Lunch\n1300 – 1530  Presentation / discussion for the foreign suppliers\nPlease be sure to register for the morning event and if you wish\, for the event especially for foreign suppliers.
LOCATION:Helsinkin Music Centre\, Mannerheimintie 13 A\, 00100\,
 Helsinki\, Finland
URL:http://tapahtumat.alko.fi/supplierevent_31102018
END:VEVENT
END:VCALENDAR
